BEGIN:VCALENDAR
VERSION:2.0
PRODID:-//ChamberMaster//Event Calendar 2.0//EN
METHOD:PUBLISH
X-PUBLISHED-TTL:P3D
REFRESH-INTERVAL:P3D
CALSCALE:GREGORIAN
BEGIN:VEVENT
DTSTART:20251203T140000Z
DTEND:20251203T150000Z
X-MICROSOFT-CDO-ALLDAYEVENT:FALSE
SUMMARY:Wake Up Wednesday: Little River Chamber of Commerce Office
DESCRIPTION:This is a members-only leads group. Wake up Wednesday provides an opportunity for members to network in an encouraging environment. Members who attend Wake up Wednesdays regularly stay visible with their colleagues and business peers\, providing each other with numerous opportunities to refer business and grow strong\, robust\, professional relationships. Coffee and light refreshments will be provided!
X-ALT-DESC;FMTTYPE=text/html:This is a members-only leads group. Wake up Wednesday provides an opportunity for members to network in an encouraging environment. Members who attend Wake up Wednesdays regularly stay visible with their colleagues and business peers\, providing each other with numerous opportunities to refer business and grow strong\, robust\, professional relationships. Coffee and light refreshments will be provided!
LOCATION:Little River Chamber of Commerce Meeting Center 440 Hwy 90 E\, Suite 2 Little River\, SC 29566
UID:e.781.45989
SEQUENCE:3
DTSTAMP:20260424T153940Z
URL:https://business.littleriverchamber.org/events/details/wake-up-wednesday-little-river-chamber-of-commerce-office-45989
END:VEVENT

END:VCALENDAR
