BEGIN:VCALENDAR
VERSION:2.0
PRODID:-//ChamberMaster//Event Calendar 2.0//EN
METHOD:PUBLISH
X-PUBLISHED-TTL:P3D
REFRESH-INTERVAL:P3D
CALSCALE:GREGORIAN
BEGIN:VEVENT
DTSTART:20200205T130000Z
DTEND:20200205T130000Z
X-MICROSOFT-CDO-ALLDAYEVENT:FALSE
SUMMARY:Wake-Up Wednesday
DESCRIPTION:MEMBER ONLY Benefit that provides an opportunity for members to network in an encouraging environment. Members who attend Wake up Wednesdays regularly stay visible with their colleagues and business peers\, providing each other with numerous opportunities to refer business and grow strong\, robust\, professional relationships.
X-ALT-DESC;FMTTYPE=text/html:<span style="font-family:arial\;"><span style="font-size:14px\;">MEMBER ONLY Benefit that provides an opportunity for members to network in an encouraging environment. Members who attend Wake up Wednesdays regularly stay visible with their colleagues and business peers\, providing each other with numerous opportunities to refer business and grow strong\, robust\, professional relationships.</span></span>
LOCATION:Little River Chamber Office 440 Hwy 90\, Suite 1 Little River\, SC 29566
UID:e.781.27956
SEQUENCE:3
DTSTAMP:20260423T073538Z
URL:https://business.littleriverchamber.org/events/details/wake-up-wednesday-27956
END:VEVENT

END:VCALENDAR
