BEGIN:VCALENDAR
VERSION:2.0
PRODID:-//ChamberMaster//Event Calendar 2.0//EN
METHOD:PUBLISH
X-PUBLISHED-TTL:P3D
REFRESH-INTERVAL:P3D
CALSCALE:GREGORIAN
BEGIN:VEVENT
DTSTART:20200413T153000Z
DTEND:20200413T163000Z
X-MICROSOFT-CDO-ALLDAYEVENT:FALSE
SUMMARY:The Challenges of the Covid-19 Workforce – Phishing\, Bombing\, Hacking and Etiquette
DESCRIPTION:As we continue to morph in to the virtual work life\, it is time to take a breath and strategically think about how our virtual environments are setup to protect our homes\, businesses\, and reputation. Presented by Chris Bianco\, Owner of TeamLogic IT.
X-ALT-DESC;FMTTYPE=text/html:<span style="color: rgb(102\, 102\, 102)\; font-family: Montserrat\, sans-serif\; font-size: 15px\;">As we continue to morph in to the virtual work life\, it is time to take a breath and strategically think about how our virtual environments are setup to protect our homes\, businesses\, and reputation. Presented by Chris Bianco\, Owner of TeamLogic IT.</span>
LOCATION:webinar https://myrtlebeachsccoc.wliinc1.com//events/Webinar-The-Challenges-of-the-Covid-19-Workforce-Phishing-Bombing-Hacking-and-Etiquette-6319/details
UID:e.781.28518
SEQUENCE:3
DTSTAMP:20260423T053100Z
URL:https://business.littleriverchamber.org/events/details/the-challenges-of-the-covid-19-workforce-phishing-bombing-hacking-and-etiquette-28518
END:VEVENT

END:VCALENDAR
