BEGIN:VCALENDAR
VERSION:2.0
PRODID:-//ChamberMaster//Event Calendar 2.0//EN
METHOD:PUBLISH
X-PUBLISHED-TTL:P3D
REFRESH-INTERVAL:P3D
CALSCALE:GREGORIAN
BEGIN:VEVENT
DTSTART:20260911T230000Z
DTEND:20260912T003000Z
X-MICROSOFT-CDO-ALLDAYEVENT:FALSE
SUMMARY:Stayin’ Alive: One Night of the Bee Gees
DESCRIPTION:Back by popular demand after a full performance earlier this season!\n\nSTAYIN' ALIVE takes audiences on an unforgettable musical journey through the legendary songs and sights of the Bee Gees. Their performances capture the essence of iconic hits like "Night Fever"\, "Jive Talkin'"\, "How Deep Is Your Love"\, "You Should Be Dancing"\, "Nights on Broadway"\, and "Stayin' Alive".\n\nComplemented by heartfelt\, poetic ballads such as "I Started a Joke"\, "Massachusetts"\, "Fanny Be Tender"\, "Words"\, and "To Love Somebody"\, this production weaves together the best of the Bee Gees' timeless catalog. Enhanced with big-screen video clips\, dazzling imagery\, and incredible stage presence\, STAYIN' ALIVE delivers a show that's not just a tribute but a full-blown celebration of the music that has charmed and captivated audiences worldwide!\n\n \n\nStayin' Alive: One Night of the Bee Gees will be live at The Carolina Opry Theater on Friday\, September 11\, 2026 at 7:00 pm. Tickets are on sale now. To buy tickets visit our website at https://thecarolinaopry.com/concerts\, call 800-843-6779 or visit the box office.
X-ALT-DESC;FMTTYPE=text/html:Back by popular demand after a full performance earlier this season!<br />\nSTAYIN&rsquo\; ALIVE takes audiences on an unforgettable musical journey through the legendary songs and sights of the Bee Gees. Their performances capture the essence of iconic hits like &ldquo\;Night Fever&rdquo\;\, &ldquo\;Jive Talkin&#39\;&rdquo\;\, &ldquo\;How Deep Is Your Love&rdquo\;\, &ldquo\;You Should Be Dancing&rdquo\;\, &ldquo\;Nights on Broadway&rdquo\;\, and &ldquo\;Stayin&rsquo\; Alive&rdquo\;.<br />\nComplemented by heartfelt\, poetic ballads such as &ldquo\;I Started a Joke&rdquo\;\, &ldquo\;Massachusetts&rdquo\;\, &ldquo\;Fanny Be Tender&rdquo\;\, &ldquo\;Words&rdquo\;\, and &ldquo\;To Love Somebody&rdquo\;\, this production weaves together the best of the Bee Gees&rsquo\; timeless catalog. Enhanced with big-screen video clips\, dazzling imagery\, and incredible stage presence\, STAYIN&rsquo\; ALIVE delivers a show that&rsquo\;s not just a tribute&mdash\;but a full-blown celebration of the music that has charmed and captivated audiences worldwide!<br />\n&nbsp\;<br />\nStayin&rsquo\; Alive: One Night of the Bee Gees will be live at The Carolina Opry Theater on Friday\, September 11\, 2026 at 7:00 pm. Tickets are on sale now. To buy tickets visit our website at <a href="https://thecarolinaopry.com/concerts">https://thecarolinaopry.com/concerts</a>\, call 800-843-6779 or visit the box office.<br />\n&nbsp\;
LOCATION:The Carolina Opry Theater 8901 N. Kings Hwy. Myrtle Beach\, SC 29572
UID:e.781.53657
SEQUENCE:3
DTSTAMP:20260424T170645Z
URL:https://business.littleriverchamber.org/events/details/stayin-alive-one-night-of-the-bee-gees-53657
END:VEVENT

END:VCALENDAR
