BEGIN:VCALENDAR
VERSION:2.0
PRODID:-//ChamberMaster//Event Calendar 2.0//EN
METHOD:PUBLISH
X-PUBLISHED-TTL:P3D
REFRESH-INTERVAL:P3D
CALSCALE:GREGORIAN
BEGIN:VEVENT
DTSTART:20260728T150000Z
DTEND:20260728T170000Z
X-MICROSOFT-CDO-ALLDAYEVENT:FALSE
SUMMARY:Job Fair and Intern Opportunities
DESCRIPTION:Job Fair and Intern Opportunities\n\nOpen Interviews
X-ALT-DESC;FMTTYPE=text/html:<p data-end="276" data-start="0">Job Fair and Intern Opportunities<br />\nOpen Interviews</p>\n
LOCATION:TBD
UID:e.781.52078
SEQUENCE:3
DTSTAMP:20260424T141046Z
URL:https://business.littleriverchamber.org/events/details/small-business-social-media-advertising-52078
END:VEVENT

END:VCALENDAR
