BEGIN:VCALENDAR
VERSION:2.0
PRODID:-//ChamberMaster//Event Calendar 2.0//EN
METHOD:PUBLISH
X-PUBLISHED-TTL:P3D
REFRESH-INTERVAL:P3D
CALSCALE:GREGORIAN
BEGIN:VEVENT
DTSTART:20260822T230000Z
DTEND:20260823T003000Z
X-MICROSOFT-CDO-ALLDAYEVENT:FALSE
SUMMARY:Second Helping: The Original Lynyrd Skynyrd Tribute Band
DESCRIPTION:Second Helping: The Original Lynyrd Skynyrd Tribute Band is the world's original and longest-running tribute to the legendary Southern rockers. Since 1988\, they've been proudly endorsed by members of Lynyrd Skynyrd and remain deeply connected to the band's legacy. Born out of a friendship with several Skynyrd members\, Second Helping was formed at a Lynyrd Skynyrd rehearsal in 1988. Many of the original players worked with them on specific parts most notably guitar greats Ed King and Randall Hall with two Second Helping members even performing in Hall's own band. Delivering a powerful\, authentic concert experience\, Second Helping celebrates the spirit of Southern rock with unforgettable performances of classics like "Sweet Home Alabama\," "Free Bird\," "Gimme Three Steps\," "Simple Man\," and "That Smell."\n\n\n\nSecond Helping: The Original Lynyrd Skynyrd Tribute Band will be live at The Carolina Opry Theater on Saturday\, August 22\, 2026 at 7:00pm. Tickets are on sale now. To buy tickets visit our website at https://thecarolinaopry.com/concerts\, call 800-843-6779 or visit the box office.
X-ALT-DESC;FMTTYPE=text/html:Second Helping: The Original Lynyrd Skynyrd Tribute Band is the world&rsquo\;s original and longest-running tribute to the legendary Southern rockers. Since 1988\, they&rsquo\;ve been proudly endorsed by members of Lynyrd Skynyrd and remain deeply connected to the band&rsquo\;s legacy. Born out of a friendship with several Skynyrd members\, Second Helping was formed at a Lynyrd Skynyrd rehearsal in 1988. Many of the original players worked with them on specific parts&mdash\;most notably guitar greats Ed King and Randall Hall&mdash\;with two Second Helping members even performing in Hall&rsquo\;s own band. Delivering a powerful\, authentic concert experience\, Second Helping celebrates the spirit of Southern rock with unforgettable performances of classics like &ldquo\;Sweet Home Alabama\,&rdquo\; &ldquo\;Free Bird\,&rdquo\; &ldquo\;Gimme Three Steps\,&rdquo\; &ldquo\;Simple Man\,&rdquo\; and &ldquo\;That Smell.&rdquo\;<br />\n<br />\nSecond Helping: The Original Lynyrd Skynyrd Tribute Band will be live at The Carolina Opry Theater on Saturday\, August 22\, 2026 at 7:00pm. Tickets are on sale now. To buy tickets visit our website at <a href="https://thecarolinaopry.com/concerts">https://thecarolinaopry.com/concerts</a>\, call 800-843-6779 or visit the box office.<br />\n&nbsp\;<br />\n&nbsp\;
LOCATION:The Carolina Opry Theater 8901 N. Kings Hwy. Myrtle Beach\, SC 29572
UID:e.781.53656
SEQUENCE:3
DTSTAMP:20260424T153240Z
URL:https://business.littleriverchamber.org/events/details/second-helping-the-original-lynyrd-skynyrd-tribute-band-53656
END:VEVENT

END:VCALENDAR
