BEGIN:VCALENDAR
VERSION:2.0
PRODID:-//ChamberMaster//Event Calendar 2.0//EN
METHOD:PUBLISH
X-PUBLISHED-TTL:P3D
REFRESH-INTERVAL:P3D
CALSCALE:GREGORIAN
BEGIN:VEVENT
DTSTART:20240718T160000Z
DTEND:20240718T180000Z
X-MICROSOFT-CDO-ALLDAYEVENT:FALSE
SUMMARY:Ribbon Cutting: The Willows by Chesapeake Homes
DESCRIPTION:Join the Little River Chamber of Commerce and ambassadors for a ribbon cutting at the all new Willows community on July 18th at 11 AM. Light refreshments will be served\, followed by a tour. Help us welcome the North Strand's newest single family home community! \n\n\n\nGet ready to fall head over heels in love with The Willows\, our newest\, breathtaking single-family home community in charming Loris\, SC! Bask in the tranquility of dreamy country living while still being just a beat away from the awe-inspiring South Carolina coast.\n\n\n\nThis community is your ultimate sanctuary - a haven to unwind but located just within a few miles of all the thrilling adventure that Myrtle Beach has to offer! Be a stone's throw from countless dining options\, entertainment\, and sports venues\, so you'll never\, ever get to experience a dull moment!\n\n\n\nAnd hey\, golf lovers\, brace yourselves for some exhilarating news! Little River\, a paradise for golf enthusiasts\, is only minutes away\, boasting some of the most competitive courses around.\n\n\n\nDreaming of an all-year-round vacation? Your hunt ends here at The Willows! Feel the relaxation with our planned top-notch amenities\, crafted to support the wholesome\, active\, and fun-filled lifestyle you crave. Picture yourself at our clubhouse\, fitness center\, pool\, pickleball courts\, bocce ball and weaving your way through the gorgeous sidewalks running through The Willows!\n\n\n\nCast away your worries and fill your life with exhilarating excitement at our tucked away gem\, The Willows! Get ready to lead a vibrant life while cherishing the sweet comfort of serenity.\n\n\n\nWith over 30 years of experience\, we?re proud to be your leading hometown builder. We thank you for considering Chesapeake Homes and look forward to saying\, ?Welcome Home.?
X-ALT-DESC;FMTTYPE=text/html:<span style="font-size:14px\;"><span style="color:#000000\;"><span style="font-family:arial\;">Join the Little River Chamber of Commerce and ambassadors for a ribbon cutting at the all new Willows community on July 18th at 11 AM. Light refreshments will be served\, followed by a tour. Help us welcome the North Strand&#39\;s newest single family home community!&nbsp\;<br />\n<br />\n<span data-sheets-root="1" data-sheets-userformat="{&quot\;2&quot\;:513\,&quot\;3&quot\;:{&quot\;1&quot\;:0}\,&quot\;12&quot\;:0}" data-sheets-value="{&quot\;1&quot\;:2\,&quot\;2&quot\;:&quot\;Get ready to fall head over heels in love with The Willows\, our newest\, breathtaking single-family home community in charming Loris\, SC! Bask in the tranquility of dreamy country living while still being just a beat away from the awe-inspiring South Carolina coast.\\n\\nThis community is your ultimate sanctuary - a haven to unwind but located just within a few miles of all the thrilling adventure that Myrtle Beach has to offer! Be a stone's throw from countless dining options\, entertainment\, and sports venues\, so you'll never\, ever get to experience a dull moment!\\n\\nAnd hey\, golf lovers\, brace yourselves for some exhilarating news! Little River\, a paradise for golf enthusiasts\, is only minutes away\, boasting some of the most competitive courses around.\\n\\nDreaming of an all-year-round vacation? Your hunt ends here at The Willows! Feel the relaxation with our planned top-notch amenities\, crafted to support the wholesome\, active\, and fun-filled lifestyle you crave. Picture yourself at our clubhouse\, fitness center\, pool\, pickleball courts\, bocce ball and weaving your way through the gorgeous sidewalks running through The Willows!\\n\\nCast away your worries and fill your life with exhilarating excitement at our tucked away gem\, The Willows! Get ready to lead a vibrant life while cherishing the sweet comfort of serenity.&quot\;}">Get ready to fall head over heels in love with The Willows\, our newest\, breathtaking single-family home community in charming Loris\, SC! Bask in the tranquility of dreamy country living while still being just a beat away from the awe-inspiring South Carolina coast.<br />\n<br />\nThis community is your ultimate sanctuary - a haven to unwind but located just within a few miles of all the thrilling adventure that Myrtle Beach has to offer! Be a stone&#39\;s throw from countless dining options\, entertainment\, and sports venues\, so you&#39\;ll never\, ever get to experience a dull moment!<br />\n<br />\nAnd hey\, golf lovers\, brace yourselves for some exhilarating news! Little River\, a paradise for golf enthusiasts\, is only minutes away\, boasting some of the most competitive courses around.<br />\n<br />\nDreaming of an all-year-round vacation? Your hunt ends here at The Willows! Feel the relaxation with our planned top-notch amenities\, crafted to support the wholesome\, active\, and fun-filled lifestyle you crave. Picture yourself at our clubhouse\, fitness center\, pool\, pickleball courts\, bocce ball and weaving your way through the gorgeous sidewalks running through The Willows!<br />\n<br />\nCast away your worries and fill your life with exhilarating excitement at our tucked away gem\, The Willows! Get ready to lead a vibrant life while cherishing the sweet comfort of serenity.</span><br />\n<br />\nWith over 30 years of experience\, we?re proud to be your leading hometown builder. We thank you for considering Chesapeake Homes and look forward to saying\, ?Welcome Home.?</span></span></span>
LOCATION:104 Little Cedar Drive\, Loris SC 29569
UID:e.781.40196
SEQUENCE:3
DTSTAMP:20260425T131330Z
URL:https://business.littleriverchamber.org/events/details/ribbon-cutting-the-willows-by-chesapeake-homes-40196
END:VEVENT

END:VCALENDAR
