BEGIN:VCALENDAR
VERSION:2.0
PRODID:-//ChamberMaster//Event Calendar 2.0//EN
METHOD:PUBLISH
X-PUBLISHED-TTL:P3D
REFRESH-INTERVAL:P3D
CALSCALE:GREGORIAN
BEGIN:VEVENT
DTSTART:20260327T160000Z
DTEND:20260327T170000Z
X-MICROSOFT-CDO-ALLDAYEVENT:FALSE
SUMMARY:Ribbon Cutting: Tea + Pottery
DESCRIPTION:Join us on Friday\, March 27th\, as we welcome our newest member\, Tea + Pottery!
X-ALT-DESC;FMTTYPE=text/html:Join us on Friday\, March 27th\, as we welcome our newest member\, Tea + Pottery!
LOCATION:4004 Railroad Ave. Loris\, SC 29569
UID:e.781.52626
SEQUENCE:3
DTSTAMP:20260424T112951Z
URL:https://business.littleriverchamber.org/events/details/ribbon-cutting-tea-pottery-52626
END:VEVENT

END:VCALENDAR
