BEGIN:VCALENDAR
VERSION:2.0
PRODID:-//ChamberMaster//Event Calendar 2.0//EN
METHOD:PUBLISH
X-PUBLISHED-TTL:P3D
REFRESH-INTERVAL:P3D
CALSCALE:GREGORIAN
BEGIN:VEVENT
DTSTART:20260119T140000Z
DTEND:20260119T170000Z
X-MICROSOFT-CDO-ALLDAYEVENT:FALSE
SUMMARY:Ribbon Cutting - Knowledge Perk Coffee Company
DESCRIPTION:Join us as we welcome Knowledge Perk Coffee Company to Little River. Knowledge Perk is located in the Lowes Parking Lot in Little River. Stop by and try some delicious coffee crafted by an amazing team!
X-ALT-DESC;FMTTYPE=text/html:Join us as we welcome Knowledge Perk Coffee Company to Little River. Knowledge Perk is located in the Lowes Parking Lot in Little River. Stop by and try some delicious coffee crafted by an amazing team!&nbsp\;&nbsp\;&nbsp\;&nbsp\;&nbsp\;&nbsp\;&nbsp\;&nbsp\;&nbsp\;&nbsp\;&nbsp\;&nbsp\;
LOCATION:Knowledge Perk Coffee 123 Pavilion Dr. Little River\, SC 29566 In the Lowes Parking Lot
UID:e.781.52076
SEQUENCE:3
DTSTAMP:20260424T140922Z
URL:https://business.littleriverchamber.org/events/details/ribbon-cutting-knowledge-perk-coffee-company-52076
END:VEVENT

END:VCALENDAR
