BEGIN:VCALENDAR
VERSION:2.0
PRODID:-//ChamberMaster//Event Calendar 2.0//EN
METHOD:PUBLISH
X-PUBLISHED-TTL:P3D
REFRESH-INTERVAL:P3D
CALSCALE:GREGORIAN
BEGIN:VEVENT
DTSTART:20240718T140000Z
DTEND:20240718T150000Z
X-MICROSOFT-CDO-ALLDAYEVENT:FALSE
SUMMARY:Ribbon Cutting: Beach Business Solutions LLC
DESCRIPTION:Help Beach Business Solutions LLC Celebrate 6 years of business on the Grand Strand with a Ribbon Cutting Ceremony!\n\n\n\nBeach Business Solutions LLC offers Accurate\, Affordable\, Accounting Services - Monthly accounting\, payroll and tax service for small business owners. Also offer tax services for individuals. One of my specialties is working with small business owners on setup and tax structuring of your business.
X-ALT-DESC;FMTTYPE=text/html:<span style="color:#000000\;"><span style="font-size:14px\;"><span style="font-family:arial\;">Help Beach Business Solutions LLC Celebrate 6 years of business on the Grand Strand with a Ribbon Cutting Ceremony!<br />\n<br />\nBeach Business Solutions LLC&nbsp\;offers&nbsp\;<span data-sheets-root="1" data-sheets-userformat="{&quot\;2&quot\;:513\,&quot\;3&quot\;:{&quot\;1&quot\;:0}\,&quot\;12&quot\;:0}" data-sheets-value="{&quot\;1&quot\;:2\,&quot\;2&quot\;:&quot\;Accurate\, Affordable\, Accounting Services - offer monthly accounting\, payroll and tax service for small business owners.  Also offer tax services for individuals.  One of my specialties is working with small business owners on setup and tax structuring of your business.&quot\;}">Accurate\, Affordable\, Accounting Services - Monthly accounting\, payroll and tax service for small business owners. Also offer tax services for individuals. One of my specialties is working with small business owners on setup and tax structuring of your business.</span></span></span></span>
LOCATION:211 Hwy 17 N\, Suite 104\, N Myrtle Beach\, SC 29482
UID:e.781.40194
SEQUENCE:3
DTSTAMP:20260425T180038Z
URL:https://business.littleriverchamber.org/events/details/ribbon-cutting-beach-business-solutions-llc-40194
END:VEVENT

END:VCALENDAR
