BEGIN:VCALENDAR
VERSION:2.0
PRODID:-//ChamberMaster//Event Calendar 2.0//EN
METHOD:PUBLISH
X-PUBLISHED-TTL:P3D
REFRESH-INTERVAL:P3D
CALSCALE:GREGORIAN
BEGIN:VEVENT
DTSTART:20260502T160000Z
DTEND:20260503T000000Z
X-MICROSOFT-CDO-ALLDAYEVENT:FALSE
SUMMARY:Relay for Life Grand Strand - American Cancer Society
DESCRIPTION:Join us in making a life-changing impact at the Relay For Life of the Grand Strand\, happening May 2\, 2026 from 2 PM   8 PM at North Myrtle Beach Middle School.\n\n \n\nThis powerful community event brings people together to honor survivors\, remember loved ones\, and take action against cancer. As a sponsor\, your business will play a vital role in supporting the American Cancer Society's mission to save lives and create a world without cancer.\n\n \n\nFor More Information Click Here
X-ALT-DESC;FMTTYPE=text/html:<p align="center" style="margin: 0px\; padding: 0px\; text-align: center\;"><span data-olk-copy-source="MessageBody" style="border: 0px\; font-style: inherit\; font-variant: inherit\; font-weight: inherit\; font-stretch: inherit\; font-size: 18px\; line-height: inherit\; font-family: inherit\; font-optical-sizing: inherit\; font-size-adjust: inherit\; font-kerning: inherit\; font-feature-settings: inherit\; font-variation-settings: inherit\; font-language-override: inherit\; margin: 0px\; padding: 0px\; vertical-align: baseline\; color: rgb(70\, 31\, 124)\;">Join us in making a life-changing impact at the Relay For Life of the Grand Strand\, happening&nbsp\;</span><span style="border: 0px\; font-style: inherit\; font-variant: inherit\; font-weight: bold\; font-stretch: inherit\; font-size: 18px\; line-height: inherit\; font-family: inherit\; font-optical-sizing: inherit\; font-size-adjust: inherit\; font-kerning: inherit\; font-feature-settings: inherit\; font-variation-settings: inherit\; font-language-override: inherit\; margin: 0px\; padding: 0px\; vertical-align: baseline\; color: rgb(70\, 31\, 124)\;">May 2\, 2026 from 2 PM &ndash\; 8 PM at North Myrtle Beach Middle School.</span></p>\n\n<p align="center" style="margin: 0px\; padding: 0px\; text-align: center\;">&nbsp\;</p>\n\n<p align="center" style="margin: 0px\; padding: 0px\; text-align: center\;"><span style="border: 0px\; font-style: inherit\; font-variant: inherit\; font-weight: inherit\; font-stretch: inherit\; font-size: 16px\; line-height: inherit\; font-family: inherit\; font-optical-sizing: inherit\; font-size-adjust: inherit\; font-kerning: inherit\; font-feature-settings: inherit\; font-variation-settings: inherit\; font-language-override: inherit\; margin: 0px\; padding: 0px\; vertical-align: baseline\; color: rgb(70\, 31\, 124)\;">This powerful community event brings people together to honor survivors\, remember loved ones\, and take action against cancer. As a sponsor\, your business will play a vital role in supporting the American Cancer Society&rsquo\;s mission to save lives and create a world without cancer.</span></p>\n\n<p align="center" style="margin: 0px\; padding: 0px\; text-align: center\;">&nbsp\;</p>\n\n<p align="center" style="margin: 0px\; padding: 0px\; text-align: center\;"><font color="#461f7c">For More Information <a href="https://files.constantcontact.com/941d3b2b001/c38a2507-50d1-4242-8bd6-f67577377732.pdf?rdr=true">Click Here</a></font></p>\n\n<p align="center" style="margin: 0px\; padding: 0px\; text-align: center\;">&nbsp\;</p>\n<br />\n&nbsp\;
LOCATION:
UID:e.781.53655
SEQUENCE:3
DTSTAMP:20260421T132645Z
URL:https://business.littleriverchamber.org/events/details/relay-for-life-grand-strand-american-cancer-society-53655
END:VEVENT

END:VCALENDAR
