BEGIN:VCALENDAR
VERSION:2.0
PRODID:-//ChamberMaster//Event Calendar 2.0//EN
METHOD:PUBLISH
X-PUBLISHED-TTL:P3D
REFRESH-INTERVAL:P3D
CALSCALE:GREGORIAN
BEGIN:VEVENT
DTSTART:20260127T180000Z
DTEND:20260127T183000Z
X-MICROSOFT-CDO-ALLDAYEVENT:FALSE
SUMMARY:Novant Health Urgent Care - Ribbon Cutting- Canceled
DESCRIPTION:Join us as we welcome Novant Health Urgent Care to Little River!
X-ALT-DESC;FMTTYPE=text/html:Join us as we welcome Novant Health Urgent Care to Little River!&nbsp\;
LOCATION:2246 US 17 Little River\, SC
UID:e.781.52075
SEQUENCE:3
DTSTAMP:20260424T141210Z
URL:https://business.littleriverchamber.org/events/details/novant-health-urgent-care-ribbon-cutting-canceled-52075
END:VEVENT

END:VCALENDAR
