BEGIN:VCALENDAR
VERSION:2.0
PRODID:-//ChamberMaster//Event Calendar 2.0//EN
METHOD:PUBLISH
X-PUBLISHED-TTL:P3D
REFRESH-INTERVAL:P3D
CALSCALE:GREGORIAN
BEGIN:VEVENT
DTSTART:20260224T170000Z
DTEND:20260224T180000Z
X-MICROSOFT-CDO-ALLDAYEVENT:FALSE
SUMMARY:Networking at Noon: Fresh Hibachi
DESCRIPTION:This is a members-only leads and networking group provides an opportunity for members to network in an encouraging environment. Members who attend Networking at Noon regularly stay visible with their colleagues and business peers\, providing each other with numerous opportunities to refer business and grow strong\, robust\, professional relationships. Lunch and refreshments will be provided!
X-ALT-DESC;FMTTYPE=text/html:<span style="font-size:16px\;"><span style="color: rgb(51\, 51\, 51)\; font-family: sans-serif\, Arial\, Verdana\, &quot\;Trebuchet MS&quot\;\; background-color: rgb(255\, 255\, 255)\;">This is a members-only leads and networking group provides an opportunity for members to network in an encouraging environment. Members who attend Networking at Noon regularly stay visible with their colleagues and business peers\, providing each other with numerous opportunities to refer business and grow strong\, robust\, professional relationships. Lunch and refreshments will be provided!&nbsp\;</span></span>
LOCATION:Fresh Hibachi Kitchen Little River 1699 US-17\, Little River\, SC 29566
UID:e.781.52082
SEQUENCE:3
DTSTAMP:20260424T140710Z
URL:https://business.littleriverchamber.org/events/details/networking-at-noon-fresh-hibachi-52082
END:VEVENT

END:VCALENDAR
