BEGIN:VCALENDAR
VERSION:2.0
PRODID:-//ChamberMaster//Event Calendar 2.0//EN
METHOD:PUBLISH
X-PUBLISHED-TTL:P3D
REFRESH-INTERVAL:P3D
CALSCALE:GREGORIAN
BEGIN:VEVENT
DTSTART:20260801T230000Z
DTEND:20260802T003000Z
X-MICROSOFT-CDO-ALLDAYEVENT:FALSE
SUMMARY:Little River Band
DESCRIPTION:Little River Band brings the hits to the stage   "Cool Change\," "Reminiscing\," "Lonesome Loser\," "The Night Owls\," and more all in one unforgettable night.\n\nWith over 36 million albums sold and a record-setting run of Top 10 hits\, Little River Band delivers the songs you know with the signature harmonies and polished sound that made them legendary.\n\nEagles founding member Glenn Frey called them "the best singing band in the world" and it's easy to hear why.\n\nLed by longtime bassist and lead vocalist Wayne Nelson\, a member of the band for over four decades\, the band continues to deliver a high-energy live show packed with hit after hit.\n\nLittle River Band will be LIVE at The Carolina Opry Theater on Saturday\, August 1\, 2026 at 7:00pm. Tickets are on sale now. To buy tickets visit our website at https://thecarolinaopry.com/concerts\, call 800-843-6779 or visit the box office.
X-ALT-DESC;FMTTYPE=text/html:Little River Band brings the hits to the stage &mdash\; &ldquo\;Cool Change\,&rdquo\; &ldquo\;Reminiscing\,&rdquo\; &ldquo\;Lonesome Loser\,&rdquo\; &ldquo\;The Night Owls\,&rdquo\; and more&mdash\;all in one unforgettable night.<br />\nWith over 36 million albums sold and a record-setting run of Top 10 hits\, Little River Band delivers the songs you know with the signature harmonies and polished sound that made them legendary.<br />\nEagles founding member Glenn Frey called them &ldquo\;the best singing band in the world&rdquo\;&mdash\;and it&rsquo\;s easy to hear why.<br />\nLed by longtime bassist and lead vocalist Wayne Nelson\, a member of the band for over four decades\, the band continues to deliver a high-energy live show packed with hit after hit.<br />\nLittle River Band will be LIVE at The Carolina Opry Theater on Saturday\, August 1\, 2026 at 7:00pm. Tickets are on sale now. To buy tickets visit our website at <a href="https://thecarolinaopry.com/concerts">https://thecarolinaopry.com/concerts</a>\, call 800-843-6779 or visit the box office.<br />\n&nbsp\;
LOCATION:The Carolina Opry Theater 8901 N. Kings Hwy. Myrtle Beach\, SC 29572
UID:e.781.53659
SEQUENCE:3
DTSTAMP:20260424T153102Z
URL:https://business.littleriverchamber.org/events/details/little-river-band-08-01-2026-53659
END:VEVENT

END:VCALENDAR
