BEGIN:VCALENDAR
VERSION:2.0
PRODID:-//ChamberMaster//Event Calendar 2.0//EN
METHOD:PUBLISH
X-PUBLISHED-TTL:P3D
REFRESH-INTERVAL:P3D
CALSCALE:GREGORIAN
BEGIN:VEVENT
DTSTART:20171007T230000Z
DTEND:20171008T010000Z
X-MICROSOFT-CDO-ALLDAYEVENT:FALSE
SUMMARY:Glenn Miller Orchestra
DESCRIPTION:The World Famous\, Glenn Miller Orchestra\, is the most popular and sought after big band in the world today for both concert and swing dance engagements. With its unique jazz sound\, the Glenn Miller Orchestra is considered to be one of the greatest bands of all time. www.glennmillerorchestra.com
X-ALT-DESC;FMTTYPE=text/html:The World Famous\, Glenn Miller Orchestra\, is the most popular and sought after big band in the world today for both concert and swing dance engagements. With its unique jazz sound\, the Glenn Miller Orchestra is considered to be one of the greatest bands of all time. www.glennmillerorchestra.com
LOCATION:Alabama Theatre 4750 Hwy 17 South North Myrtle Beach\, SC 29582
UID:e.781.21682
SEQUENCE:3
DTSTAMP:20260422T074104Z
URL:https://business.littleriverchamber.org/events/details/glenn-miller-orchestra-21682
END:VEVENT

END:VCALENDAR
