BEGIN:VCALENDAR
VERSION:2.0
PRODID:-//ChamberMaster//Event Calendar 2.0//EN
METHOD:PUBLISH
X-PUBLISHED-TTL:P3D
REFRESH-INTERVAL:P3D
CALSCALE:GREGORIAN
BEGIN:VEVENT
DTSTART:20251118T220000Z
DTEND:20251119T000000Z
X-MICROSOFT-CDO-ALLDAYEVENT:FALSE
SUMMARY:Chamber Connections: J & J Air Canceled
DESCRIPTION:Chamber Connections has been canceled for November 18th . We will see you next month for Holiday Cheer at The Greg Rowles Legacy Theatre.
X-ALT-DESC;FMTTYPE=text/html:Chamber Connections has been canceled for November 18th . We will see you next month for Holiday Cheer at The Greg Rowles Legacy Theatre.&nbsp\;
LOCATION:
UID:e.781.47349
SEQUENCE:3
DTSTAMP:20260424T171633Z
URL:https://business.littleriverchamber.org/events/details/chamber-connections-j-j-air-canceled-47349
END:VEVENT

END:VCALENDAR
