BEGIN:VCALENDAR
VERSION:2.0
PRODID:-//ChamberMaster//Event Calendar 2.0//EN
METHOD:PUBLISH
X-PUBLISHED-TTL:P3D
REFRESH-INTERVAL:P3D
CALSCALE:GREGORIAN
BEGIN:VEVENT
DTSTART:20260428T153000Z
DTEND:20260428T170000Z
X-MICROSOFT-CDO-ALLDAYEVENT:FALSE
SUMMARY:Business Buzz- Small Business-Social Media Advertising w/Jacqueline Calhoun
DESCRIPTION:Sponsored by Pro Safe Storage\, join us for a one-hour class on Small Business Social Media Advertising with Professor Jacqueline Calhoun of Coastal Carolina University. Social media ads are changing constantly\, and this session is designed to help you keep up without feeling overwhelmed.\n\nProfessor Calhoun will walk you through the basics of how social ads work\, what's worth spending money on (and what isn't)\, and how to make smarter choices with your budget. You'll leave with clear takeaways you can apply right away\, whether you're brand new to advertising or you've boosted posts and want better results.\n\nPerfect for small business owners\, managers\, and anyone responsible for marketing
X-ALT-DESC;FMTTYPE=text/html:<p data-end="276" data-start="0">Sponsored by <a href="https://www.prosafestorage.com/location/USA/SC/Little-River/prosafe-little-river/">Pro Safe Storage</a>\, join us for a one-hour class on <strong data-end="86" data-start="43">Small Business Social Media Advertising</strong> with <strong data-end="155" data-start="92">Professor Jacqueline Calhoun of Coastal Carolina University</strong>. Social media ads are changing constantly\, and this session is designed to help you keep up without feeling overwhelmed.</p>\n\n<p data-end="600" data-start="278">Professor Calhoun will walk you through the basics of how social ads work\, what&rsquo\;s worth spending money on (and what isn&rsquo\;t)\, and how to make smarter choices with your budget. You&rsquo\;ll leave with clear takeaways you can apply right away\, whether you&rsquo\;re brand new to advertising or you&rsquo\;ve boosted posts and want better results.</p>\n\n<p data-end="684" data-start="602">Perfect for small business owners\, managers\, and anyone responsible for marketing</p>\n
LOCATION:Little River Chamber of Commerce 440 SC-90 Little River\, SC
UID:e.781.52077
SEQUENCE:3
DTSTAMP:20260424T111917Z
URL:https://business.littleriverchamber.org/events/details/business-buzz-small-business-social-media-advertising-w-jacqueline-calhoun-52077
END:VEVENT

END:VCALENDAR
