BEGIN:VCALENDAR
VERSION:2.0
PRODID:-//ChamberMaster//Event Calendar 2.0//EN
METHOD:PUBLISH
X-PUBLISHED-TTL:P3D
REFRESH-INTERVAL:P3D
CALSCALE:GREGORIAN
BEGIN:VEVENT
DTSTART:20251023T200000Z
DTEND:20251023T220000Z
X-MICROSOFT-CDO-ALLDAYEVENT:FALSE
SUMMARY:Big Blue Bash with BBB Serving Eastern Carolinas
DESCRIPTION:BBB Accredited Businesses\, members of the business community and all community partners are invited to join us at the BBB office in Myrtle Beach for an after-hours\, come-and-go networking celebration event. You'll have the opportunity to network\, enjoy drinks\, grab some food\, and connect with our BBB team and local business community. A photographer will be onsite to take free professional headshots for attendees\, presented by HTC. Free to attend but registration is required. Once you register\, you'll be entered into a raffle to win prizes throughout the event!
X-ALT-DESC;FMTTYPE=text/html:BBB Accredited Businesses\, members of the business community and all community partners are invited to join us at the BBB office in Myrtle Beach for an after-hours\, come-and-go networking celebration event. You&#39\;ll have the opportunity to network\, enjoy drinks\, grab some food\, and connect with our BBB team and local business community. A photographer will be onsite to take free professional headshots for attendees\, presented by HTC. Free to attend but registration is required. Once you register\, you&rsquo\;ll be entered into a raffle to win prizes throughout the event!
LOCATION:voco the Shelby - Myrtle Beach by IHG 1802 North Ocean Boulevard Myrtle Beach\, SC 29577
UID:e.781.51919
SEQUENCE:3
DTSTAMP:20260424T202620Z
URL:https://business.littleriverchamber.org/events/details/big-blue-bash-with-bbb-serving-eastern-carolinas-51919
END:VEVENT

END:VCALENDAR
