BEGIN:VCALENDAR
VERSION:2.0
PRODID:-//ChamberMaster//Event Calendar 2.0//EN
METHOD:PUBLISH
X-PUBLISHED-TTL:P3D
REFRESH-INTERVAL:P3D
CALSCALE:GREGORIAN
BEGIN:VEVENT
DTSTART:20260517T230000Z
DTEND:20260518T003000Z
X-MICROSOFT-CDO-ALLDAYEVENT:FALSE
SUMMARY:Beginnings: A Celebration of the Music of Chicago
DESCRIPTION:Beginnings: A Celebration of the Music of Chicago captures the electrifying spirit of Chicago's legendary performances\, celebrated worldwide for their thrilling arena concerts. With a spectacular repertoire spanning over five decades of hits\, Chicago has earned five #1 albums and more than 20 top-ten singles.\n\nBeginnings brings these classics to life with powerful performances of fan favorites including "Beginnings\," "Make Me Smile\," "25 or 6 to 4\," "Call on Me\," "Saturday in the Park\," "You're the Inspiration\," "I've Been Searchin' So Long\," and "Hard to Say I'm Sorry."\n\nThis high-energy tribute takes you on a musical journey through the legendary sounds of one of America's greatest rock bands. Perfect for the whole family\, it's an unforgettable night of music.\n\nBeginnings: A Celebration of the Music of Chicago will be live at The Carolina Opry Theater on Sunday\, May 17\, 2026 at 7:00pm. Tickets are on sale now. To buy tickets visit our website at https://thecarolinaopry.com/concerts\, call 800-843-6779 or visit the box office.
X-ALT-DESC;FMTTYPE=text/html:&nbsp\;Beginnings: A Celebration of the Music of Chicago captures the electrifying spirit of Chicago&rsquo\;s legendary performances\, celebrated worldwide for their thrilling arena concerts. With a spectacular repertoire spanning over five decades of hits\, Chicago has earned five #1 albums and more than 20 top-ten singles.<br />\nBeginnings brings these classics to life with powerful performances of fan favorites including &ldquo\;Beginnings\,&rdquo\; &ldquo\;Make Me Smile\,&rdquo\; &ldquo\;25 or 6 to 4\,&rdquo\; &ldquo\;Call on Me\,&rdquo\; &ldquo\;Saturday in the Park\,&rdquo\; &ldquo\;You&rsquo\;re the Inspiration\,&rdquo\; &ldquo\;I&rsquo\;ve Been Searchin&rsquo\; So Long\,&rdquo\; and &ldquo\;Hard to Say I&rsquo\;m Sorry.&rdquo\;<br />\nThis high-energy tribute takes you on a musical journey through the legendary sounds of one of America&rsquo\;s greatest rock bands. Perfect for the whole family\, it&rsquo\;s an unforgettable night of music.<br />\nBeginnings: A Celebration of the Music of Chicago will be live at The Carolina Opry Theater on Sunday\, May 17\, 2026 at 7:00pm. Tickets are on sale now. To buy tickets visit our website at <a href="https://thecarolinaopry.com/concerts">https://thecarolinaopry.com/concerts</a>\, call 800-843-6779 or visit the box office.<br />\n&nbsp\;<br />\n&nbsp\;
LOCATION:The Carolina Opry Theater 8901 N. Kings Hwy. Myrtle Beach\, SC 29572
UID:e.781.51926
SEQUENCE:3
DTSTAMP:20260424T112001Z
URL:https://business.littleriverchamber.org/events/details/beginnings-a-celebration-of-the-music-of-chicago-01-31-2026-51926
END:VEVENT

END:VCALENDAR
