BEGIN:VCALENDAR
VERSION:2.0
PRODID:-//ChamberMaster//Event Calendar 2.0//EN
METHOD:PUBLISH
X-PUBLISHED-TTL:P3D
REFRESH-INTERVAL:P3D
CALSCALE:GREGORIAN
BEGIN:VEVENT
DTSTART:20261025T230000Z
DTEND:20261026T003000Z
X-MICROSOFT-CDO-ALLDAYEVENT:FALSE
SUMMARY:An Evening with Bill Engvall – “Here’s Your Sign\, It Wasn’t My Time”
DESCRIPTION:Bill Engvall brings his signature wit and down-to-earth humor to the stage with a night of comedy that feels instantly familiar and effortlessly funny. Best known for his iconic "Here's Your Sign" routine and his time on the Blue Collar Comedy Tour\, Engvall has a way of turning everyday moments into laugh-out-loud stories that hit close to home.\n\nIn "Here's Your Sign\, It Wasn't My Time\," Engvall delivers a high-energy set filled with sharp observations\, personal stories\, and the kind of humor that keeps audiences laughing from start to finish. Whether you've been a fan for years or are seeing him live for the first time\, it's a show built on connection\, timing\, and the kind of comedy that only gets better with experience.\n\nWith decades on stage and a style that's as relatable as it is entertaining\, Bill Engvall offers a night of comedy that's easy to enjoy and hard to forget.\n\nAn Evening with Bill Engvall   "Here's Your Sign\, It Wasn't My Time" will be live at The Carolina Opry Theater on Sunday\, October 25\, 2026 at 7:00pm. Tickets are on sale now. To buy tickets visit our website at https://thecarolinaopry.com/concerts\, call 800-843-6779 or visit the box office.
X-ALT-DESC;FMTTYPE=text/html:Bill Engvall brings his signature wit and down-to-earth humor to the stage with a night of comedy that feels instantly familiar and effortlessly funny. Best known for his iconic &ldquo\;Here&rsquo\;s Your Sign&rdquo\; routine and his time on the Blue Collar Comedy Tour\, Engvall has a way of turning everyday moments into laugh-out-loud stories that hit close to home.<br />\nIn &ldquo\;Here&rsquo\;s Your Sign\, It Wasn&rsquo\;t My Time\,&rdquo\; Engvall delivers a high-energy set filled with sharp observations\, personal stories\, and the kind of humor that keeps audiences laughing from start to finish. Whether you&rsquo\;ve been a fan for years or are seeing him live for the first time\, it&rsquo\;s a show built on connection\, timing\, and the kind of comedy that only gets better with experience.<br />\nWith decades on stage and a style that&rsquo\;s as relatable as it is entertaining\, Bill Engvall offers a night of comedy that&rsquo\;s easy to enjoy&mdash\;and hard to forget.<br />\nAn Evening with Bill Engvall &ndash\; &ldquo\;Here&rsquo\;s Your Sign\, It Wasn&rsquo\;t My Time&rdquo\; will be live at The Carolina Opry Theater on Sunday\, October 25\, 2026 at 7:00pm. Tickets are on sale now. To buy tickets visit our website at <a href="https://thecarolinaopry.com/concerts">https://thecarolinaopry.com/concerts</a>\, call 800-843-6779 or visit the box office.<br />\n&nbsp\;<br />\n&nbsp\;
LOCATION:The Carolina Opry Theater 8901 N. Kings Hwy. Myrtle Beach\, SC 29572
UID:e.781.53658
SEQUENCE:3
DTSTAMP:20260424T183343Z
URL:https://business.littleriverchamber.org/events/details/an-evening-with-bill-engvall-here-s-your-sign-it-wasn-t-my-time-53658
END:VEVENT

END:VCALENDAR
